BEGIN:VCALENDAR
VERSION:2.0
PRODID:-//Lyme Ontario - ECPv4.9.13//NONSGML v1.0//EN
CALSCALE:GREGORIAN
METHOD:PUBLISH
X-WR-CALNAME:Lyme Ontario
X-ORIGINAL-URL:https://lymeontario.com
X-WR-CALDESC:Events for Lyme Ontario
BEGIN:VTIMEZONE
TZID:America/Toronto
BEGIN:DAYLIGHT
TZOFFSETFROM:-0500
TZOFFSETTO:-0400
TZNAME:EDT
DTSTART:20190310T070000
END:DAYLIGHT
BEGIN:STANDARD
TZOFFSETFROM:-0400
TZOFFSETTO:-0500
TZNAME:EST
DTSTART:20191103T060000
END:STANDARD
END:VTIMEZONE
BEGIN:VEVENT
DTSTART;TZID=America/Toronto:20191119T180000
DTEND;TZID=America/Toronto:20191119T193000
DTSTAMP:20260420T233538
CREATED:20191104T032011Z
LAST-MODIFIED:20191104T032011Z
UID:266-1574186400-1574191800@lymeontario.com
SUMMARY:Ottawa Lyme Disease Support Group
DESCRIPTION:Guest speaker will be Justin Wood\, founder of the Canadian tick testing lab Geneticks! \n
URL:https://lymeontario.com/event/ottawa-lyme-disease-support-group/
LOCATION:Somerset West Community Health Centre\, 55 Eccles St\, 3rd Floor Boardroom\, Ottawa\, ON\, K1R 6S3\, Canada
CATEGORIES:Events
END:VEVENT
END:VCALENDAR