BEGIN:VCALENDAR
VERSION:2.0
PRODID:-//Lyme Ontario - ECPv4.9.13//NONSGML v1.0//EN
CALSCALE:GREGORIAN
METHOD:PUBLISH
X-WR-CALNAME:Lyme Ontario
X-ORIGINAL-URL:https://lymeontario.com
X-WR-CALDESC:Events for Lyme Ontario
BEGIN:VTIMEZONE
TZID:America/Toronto
BEGIN:DAYLIGHT
TZOFFSETFROM:-0500
TZOFFSETTO:-0400
TZNAME:EDT
DTSTART:20200308T070000
END:DAYLIGHT
BEGIN:STANDARD
TZOFFSETFROM:-0400
TZOFFSETTO:-0500
TZNAME:EST
DTSTART:20201101T060000
END:STANDARD
END:VTIMEZONE
BEGIN:VEVENT
DTSTART;TZID=America/Toronto:20200404T110000
DTEND;TZID=America/Toronto:20200404T140000
DTSTAMP:20260424T195821
CREATED:20200219T011349Z
LAST-MODIFIED:20200312T234140Z
UID:293-1585998000-1586008800@lymeontario.com
SUMMARY:Lyme Ontario & Dr. Angela Lee Presents Lyme Disease - Cancelled
DESCRIPTION:***THIS EVENT HAS BEEN CANCELLED and will be rescheduled at a later date\, due to the virus.***\n \n
URL:https://lymeontario.com/event/lyme-ontario-dr-angela-lee-presents-lyme-disease-what-you-need-to-know/
LOCATION:Mold-Masters SportsPlex Gordon Alcott Heritage Hall\, 221 Guelph St\,\, Georgetown\, Ontario\, L7G 4A8\, Canada
CATEGORIES:Events
END:VEVENT
END:VCALENDAR